BEGIN:VCALENDAR
VERSION:2.0
PRODID:-// - ECPv6.9.0//NONSGML v1.0//EN
CALSCALE:GREGORIAN
METHOD:PUBLISH
X-ORIGINAL-URL:https://mariolakaczmarek.pl
X-WR-CALDESC:Events for 
REFRESH-INTERVAL;VALUE=DURATION:PT1H
X-Robots-Tag:noindex
X-PUBLISHED-TTL:PT1H
BEGIN:VTIMEZONE
TZID:Europe/Warsaw
BEGIN:DAYLIGHT
TZOFFSETFROM:+0100
TZOFFSETTO:+0200
TZNAME:CEST
DTSTART:20240331T010000
END:DAYLIGHT
BEGIN:STANDARD
TZOFFSETFROM:+0200
TZOFFSETTO:+0100
TZNAME:CET
DTSTART:20241027T010000
END:STANDARD
END:VTIMEZONE
BEGIN:VEVENT
DTSTART;TZID=Europe/Warsaw:20241109T100000
DTEND;TZID=Europe/Warsaw:20241109T160000
DTSTAMP:20260420T000155
CREATED:20240825T154319Z
LAST-MODIFIED:20240921T103644Z
UID:1882-1731146400-1731168000@mariolakaczmarek.pl
SUMMARY:Czarodziejskie poduszki
DESCRIPTION:Czarodziejskie poduszkiPoduszki w naszym życiu mają różne zastosowanie. Kiedy kładziemy się spać\, układamy na niej swoją głowę. Wybierając się w dłuższą podróż\, zabieramy ją ze sobą. Jeszcze inne są siedziskiem na krzesłach lub fotelach ogrodowych. Są elementem dekoracyjnym w domu i potrafią podkreślić charakter pokoju\, w którym się znajdują. Ja jednak opowiem Wam\, jak i po co możemy sobie wykonać czarodziejską poduszkę. Mówi się\, że słowa mają moc. Te pozytywne i te mniej pozytywne. Masaru Emoto – japoński naukowiec\, naturopata\, zajmował się zagadnieniami\, dotyczącymi struktury wody i jaki wpływ na nią mają ludzkie emocje. Poddał wodę różnym doświadczeniom. Na buteleczce z wodą umieścił napis: „kocham”\, a na innej „nienawidzę”. W dalszym etapie zamroził próbkę wody w temperaturze -5°C. Tak skrystalizowaną wodę obejrzał pod mikroskopem\, powiększając ją 400-krotnie. Zobaczył niewiarygodnie piękne\, regularne kształty\, przypominające płatki śniegu. Po tym doświadczeniu przekonał się\, że woda reaguje na informację\, a więc i na nasze myśli i słowa wypowiadane i zapisywane.Zatem woda w swojej strukturze ma możliwości zapisywania dźwięków\, obrazów\, myśli i emocji.Uznał on\, że wszystko jest wibracją\, że energia jest wibracją i życie też jest wibracją. Jeżeli przyjmiemy\, że człowiek składa się w około 70% z wody\, to wszystkiebodźce zapisują się w naszym organizmie a dokładniej wodzie\, znajdującej się w naszym ciele.Tę właściwość wykorzystujemy\, tworząc czarodziejskie poduszki. Informacja w postaci wzorów\, kolorów\, kształtów\, symboli na poduszkach\, będzie wpływać naukojenie emocji\, harmonizację swoich myśli\, dobry i spokojny sen\, czy podnoszenie wibracji\, poprzez zmiany w strukturze wody w organizmie śpiącego. Te poduszki\, dzięki swym walorom estetycznym\, doskonale się sprawdzą również jako element wyłącznie dekoracyjny lub nietuzinkowy prezent. Będziemy tak dobierać elementy na naszą „podusię” by uwzględnić w nich indywidualne zapotrzebowanie. Dobrany kolor będzie wzbudzał różne emocje\, ale u każdej osoby inne. Niektóre będą wpływać na wyciszenie a inne na podniesienie energii. Te zajęcia to nie tylko zabawa ze wzorem\, kolorem czy symbolem. To praca by tak dobrać wszystkie elementy żeby tworzyły wspólną całość jak również niepowtarzalną\, indywidualną wibrację dla każdego inną.ZaczynamyKawą lub herbatąOmówieniem rodzaju farb i akcesoriów\, których będziemy używaćOmówienie symboli i wyrazów\, które będziemy wykorzystywaćCzas na tworzenie- projektowanieZabezpieczenie i utrwalenie wzoruPodczas warsztatów podzielę się swoją wiedzą i chętnie cię zainspiruje W cenie zawarte są wszystkie materiały\, akcesoria i poczęstunek.Każdy uczestnik zabiera ze sobą swoją pracę
URL:https://mariolakaczmarek.pl/event/czarodziejskie-poduszki/
END:VEVENT
BEGIN:VEVENT
DTSTART;TZID=Europe/Warsaw:20241026T100000
DTEND;TZID=Europe/Warsaw:20241026T153000
DTSTAMP:20260420T000155
CREATED:20240427T182700Z
LAST-MODIFIED:20240921T103535Z
UID:1257-1729936800-1729956600@mariolakaczmarek.pl
SUMMARY:Warsztat ANIOŁY
DESCRIPTION:Anioły Namaluj swojego Anioła Anioł to słowo wywodzące się z języka greckiego „angelos” oznaczające „posłańca” między Bogiem a człowiekiem. Wzmianki o aniołach występują we wszystkich największych religiach. Każdy człowiek posiada swojego anioła nazywamy go „Aniołem Stróżem” i pojawia się przy nas od chwili urodzenia się na tym świecie aż do momentu naszego odejścia. To istoty do tzw zadań specjalnych\, między innymi do ochrony\, inspirowania i pomagania w każdej minucie naszego życia .Anioł wymalowany dla dziecka chroni je\, a rodzicom przynosi spokój i zaufanie siłom wyższym. Malowanie to również terapia sztuką. Daje możliwość człowiekowi zwrócenia się do swojego wnętrza\, wyciszyć się\, uspokoić swoje myśli\, podnieść energetykę swojego ciała. Dzięki malowaniu można połączyć dwa światy \, duchowy i fizyczny a każdy z nich jest tak samo ważny. Pozwala zrozumieć\, że nie jesteśmy oddzieleni\, że istnieje siła wyższa\, która spaja wszystko w jedną całość. Rozumiejąc to zaczynamy tworzyć swój  lepszy świat\, który najpierw odkrywamy w sobie. Pragnę podzielić się swoją wiedzą i umiejętnościami tworzenia. Przez wiele lat zdobywałam swoje umiejętności malowania na jedwabiu\, płótnie\, papierze\, pracy z tkaniną\, poznawałam tajniki projektowania zabawek edukacyjnych. Poczułam\, że malowanie i  tworzenie jest dla mnie terapią i odprężeniem na stresy codziennego życia. Wszystkie te zajęcia artystyczne pomogły mi w powrocie do zdrowia i uzyskaniu harmonii ciała i umysłu. Czy masz odwagę wyruszyć w świat koloru i fantazji\, a może chętniej niż inni podejmiesz ryzyko poznawania swoich twórczych talentów?. Każdy z nas ma swojego Anioła- więc namaluj go.Gwarantuje oprócz wewnętrznych doznań\, wspaniałą zabawę i podróż. Nauczę cię różnych technik plastycznych i  jak je łączyć ze sobą\n\nPoczujesz magię tworzenia\n\nZanim zaczniesz malować poeksperymentujesz z różnymi farbami i technikami\, do momentu kiedy podejmiesz decyzje o swoim obrazie\n\nBędziesz mieć okazję poznać innych ludzi\, nawiązać nowe kontakty by później móc wymieniać się między sobą swoimi inspiracjami\n\nZapewniam wszystkie podobrazia\,  farby\, pędzle\, akcesoria\n\nKawę\, herbatę bez ograniczeń i oczywiście słodki poczęstunek
URL:https://mariolakaczmarek.pl/event/warsztat-anioly/
ORGANIZER;CN="Mariola Kaczmarek":MAILTO:biuro@mariolakaczmarek.pl
END:VEVENT
BEGIN:VEVENT
DTSTART;TZID=Europe/Warsaw:20241012T100000
DTEND;TZID=Europe/Warsaw:20241012T160000
DTSTAMP:20260420T000155
CREATED:20240921T104743Z
LAST-MODIFIED:20240921T105142Z
UID:1958-1728727200-1728748800@mariolakaczmarek.pl
SUMMARY:Pomaluj swoją koszulkę
DESCRIPTION:Czy zwróciłaś/łeś uwagę\, że w butikach i różnych sieciówkach znajduje się dużo kolorowej odzieży? Zdarza się\, że ich wzory bywają nawet ciekawe. Strój\, odzież – to nie tylko okrycie wierzchnie.  Przez to\, w co i jak się ubieramy\, pragniemy podkreślić swoją osobowość lub przynależność do określonej grupy. Jeżeli np. ktoś ubrany w kurtkę i spodnie ze skóry prawdopodobnie jeździ na motorze. Ubiór może podkreślać czyjąś indywidualność. Możemy\, właśnie strojem\, wyróżnić się z tłumu\, spośród podobnie ubranych ludzi. Ubiór i jego kolor może mieć wpływ na nasze poczucie pewności siebie i nato\, jak postrzegają i odbierają nas inni ludzie. Czy pomyślałaś/łeś o tym\, że pozwolenie sobie na indywidualność\, to również prawdziwa odwaga\, bo trzeba ją mieć\, kiedy nasz strój jest inny\, niż oficjalna modowa narracja? To światowi projektanci nadają modzie kierunek\, kreując ją swoimi upodobaniami. Decydują\, czy i kiedy białe skarpetkiubrane do garnituru\, bądź sandałów są „passe”\, czy jednak największym krzykiem mody.Czy wiesz\, że my dla siebie możemy być kreatorami swojej własnej mody? To my mamy prawo decydować\, w jakim ubraniu się czujemy najlepiej. Czy odzież noszona przez nas będzie z surowców syntetycznych\, czy jednak skierujemy swoją uwagę w stronę tkanin naturalnych\, takich jak len\,bawełna\, jedwab. Każdy chce mieć swój styl\, wyrażać siebie poprzez swój wygląd\, czy wręcz czarować nim otoczenie Dlatego też\, za słowami z piosenki: „Chodź pomaluj mój świat\, na żółto i na niebiesko….”  zapraszam Cię do wspólnego malowania: CHODŹ POMALUJ SWOJĄ KOSZULKĘ!By ją namalować nie musisz posiadać zdolności plastycznych a zdobyta wiedza i nowe umiejętnościspokojnie pozwolą na powtórzenie takiego niepowtarzalnego rysunku w zaciszu domowym. Takapraca możemy obdarować najbliższe nam osoby.Bądź dla siebie kreatorem mody. Zapraszam do wspaniałej przygody. Program:▪️zaczynamy kawką lub herbatką▪️wybieramy właściwą dla siebie koszulkę▪️omawiamy cały proces malowania▪️wybieramy projekt▪️czas na realizację▪️po zakończeniu wychodzimy z nową koszulką gotową do ubrania na siebie i w pełni utrwalonym na niej rysunkiem▪️najważniejsze to relacje i nawiązanie nowych kontaktów i przyjazna atmosfera Jestem z Tobą w całym procesie tworzenia i służę radą\, pomocą i doświadczeniem Cena: 485\,00 ( cena zawiera koszulkę\, wszystkie materiały pomocnicze i oczywiście poczęstunek)
URL:https://mariolakaczmarek.pl/event/pomaluj-swoja-koszulke/
ORGANIZER;CN="Mariola Kaczmarek":MAILTO:biuro@mariolakaczmarek.pl
END:VEVENT
END:VCALENDAR